BEGIN:VCALENDAR
VERSION:2.0
PRODID:-//Kulturverein Rangsdorf e.V. - ECPv6.0.10//NONSGML v1.0//EN
CALSCALE:GREGORIAN
METHOD:PUBLISH
X-WR-CALNAME:Kulturverein Rangsdorf e.V.
X-ORIGINAL-URL:https://www.kulturverein-rangsdorf.de
X-WR-CALDESC:Veranstaltungen für Kulturverein Rangsdorf e.V.
REFRESH-INTERVAL;VALUE=DURATION:PT1H
X-Robots-Tag:noindex
X-PUBLISHED-TTL:PT1H
BEGIN:VTIMEZONE
TZID:UTC
BEGIN:STANDARD
TZOFFSETFROM:+0000
TZOFFSETTO:+0000
TZNAME:UTC
DTSTART:20260101T000000
END:STANDARD
END:VTIMEZONE
BEGIN:VEVENT
DTSTART;TZID=UTC:20260101T000000
DTEND;TZID=UTC:20261231T000000
DTSTAMP:20260422T090126
CREATED:20251210T204120Z
LAST-MODIFIED:20260420T181513Z
UID:22739-1767225600-1798675200@www.kulturverein-rangsdorf.de
SUMMARY:Veranstaltungen Flyer 2026
DESCRIPTION:zum Download: Flyer Programm 2026
URL:https://www.kulturverein-rangsdorf.de/event/flyer2026/
LOCATION:Brandenburg
ATTACH;FMTTYPE=image/jpeg:https://www.kulturverein-rangsdorf.de/wp-content/uploads/2025/12/6259-1-scaled.jpg
END:VEVENT
BEGIN:VEVENT
DTSTART;TZID=UTC:20260418T190000
DTEND;TZID=UTC:20260418T211500
DTSTAMP:20260422T090126
CREATED:20260306T193453Z
LAST-MODIFIED:20260413T184356Z
UID:23280-1776538800-1776546900@www.kulturverein-rangsdorf.de
SUMMARY:THEATERGRUPPE BUNTSPECHT Zu treuen Händen - Komödie von Erich Kästner
DESCRIPTION:Die Buntspechte widmen sich noch einmal Erich Kästner\, diesmal mit einer etwas unbekannteren Komödie\, die ein paar Jahre auf dem Buckel hat\, aber dennoch ziemlich aktuell daherkommt. Ein Generationenkonflikt\, der anders ausgeht als erwartet. „Umkehrung der üblichen Generationsunterschiede. Früher die Alten altmodisch und die Jungen modern. Heute die Alten modern und die Jungen altmodisch. Der psychologische Irrtum\, aus dem sich die Irrtümer in der Handlung automatisch entwickeln. Die Alten könnten eher von den Jungen lernen als umgekehrt. Sind aber zu alt dafür.“ So die Notizen zum Stück von Kästner selbst.\nWie es sich für eine Komödie gehört\, kommt es anders als geplant. Lassen Sie sich überraschen. Ein köstlicher Theaterspaß in der Inszenierung von Eike Mewes. \nBitte reservieren Sie über den Button Teilnehmen online die Eintrittskarten. Sie brauchen die Karten nicht ausdrucken. Diese sind für Sie bis 15 min vor Start der Veranstaltung an der Abendkasse hinterlegt.\nSollten Sie nicht teilnehmen können\, informieren Sie uns bitte über den Button Kann nicht teilnehmen oder per E-Mail unter info@kulturverein-rangsdorf.de.\nDer Einlass beginnt ab 18.15 Uhr \n– Änderungen vorbehalten – \n 
URL:https://www.kulturverein-rangsdorf.de/event/kaestner2/
LOCATION:Gutshaus Salve in Groß Machnow\, Dorfstr. 12\, Rangsdorf OT Groß Machnow\, Brandenburg\, 15834\, Deutschland
ATTACH;FMTTYPE=image/jpeg:https://www.kulturverein-rangsdorf.de/wp-content/uploads/2026/03/FlyerS1-1.jpeg
END:VEVENT
END:VCALENDAR